Workbook
Name Type: '[1]Maintenance Work Order'!#REF!

Sheet Plancomptable
A1: AEFNB
A2: Plan comptable
A3: N° | B3: Description | G3: Légende : | H3: Catégorie
A4: Plan comptable - Exercice courant (2027) | G4: 1 | H4: Actif
A5: ACTIF | G5: 2 | H5: Passif
A6: 1000 | B6: Actifs à court terme | G6: 3 | H6: Capitaux propres
A7: 1001 | B7: Petite caisse | G7: 4 | H7: Produits
A8: 1002 | B8: Banque compte courant | G8: 5 | H8: Charges
A9: 1003 | B9: Banque compte épargne
A10: 1004 | B10: Banque placement à court terme
A11: 1099 | B11: Total de l'encaisse
A12: 1100 | B12: Dépôt à termes
A13: 1200 | B13: Montant à recevoir
A14: 1299 | B14: Total à recevoir
A15: 1300 | B15: Dépenses payées d'avance
A16: 1400 | B16: Total actifs à court terme
A17: Passif
A18: 2100 | B18: Comptes fournisseurs
A19: 2101 | B19: Revenus différés
A20: 2199 | B20: Total du passif
A21: Avoir des propriétaires
A22: 3500 | B22: Bénéfices non répartis
A23: 3510 | B23: Bénféfices non répartis - ex. précédent
A24: 3600 | B24: Bénéfice courant
A25: 3699 | B25: Total de l'avoir des propriétaires
A26: PRODUIT
A27: 4000 | B27: =Liste!B2 -> Ristourne de fonctionnement
A28: 4001 | B28: =Liste!B4 -> Cotisation locale
A29: 4002
A35: 4400 | B35: Autre produit
A36: 4490 | B36: Revenus divers
A37: 4491 | B37: =Liste!B5 -> Intérêts
A41: 4599 | B41: Total - Autre produit
A42: CHARGE
A43: 5000
A44: 5005 | B44: Activités sociales et banquet
A45: 5010 | B45: Bourse d'études
A46: 5015 | B46: Formation membres du BD
A47: 5020
A48: 5025 | B48: Frais bancaire
...

Sheet Budget_fonctionnement
B1: Cercle
B2: BUDGET | C2: 2027-2028 (1er juillet 2027 au 30 juin 2028)
B4: SOMMAIRE
B5: Total des revenus | C5: =Income5[[#Totals],[Prévision budget 2027-2028]] -> 0
B6: Total des dépenses | C6: =Expenses4[[#Totals],[Prévision budget 2027-2028]] -> 0
B8: Surplus (déficit) | C8: =C5-C6 -> 0
B10: Pourcentage du revenu dépensé | C10: =C6/C5 -> #DIV/0!
B12: REVENUS
B13: COMPTES DE REVENUS | C13: Description | D13: Budget réel au 30 juin 2025 | E13: Budget 2026-2027 | F13: Réel à ce jour | G13: Prévision budget 2027-2028 | H13: Écart entre 2027-2028 et 2026-2027 (en $)
F14: =GrandLivreGeneral_fonctionnemen!F114 -> 0 | H14: =Income5[[#This Row],[Prévision budget 2027-2028]]-Income5[[#This Row],[Budget 2026-2027]] -> 0
F15: =GrandLivreGeneral_fonctionnemen!F122 -> 0 | G15: =Income5[[#This Row],[Budget 2026-2027]] -> 0 | H15: =Income5[[#This Row],[Prévision budget 2027-2028]]-Income5[[#This Row],[Budget 2026-2027]] -> 0
G16: =Income5[[#This Row],[Budget 2026-2027]] -> 0 | H16: =Income5[[#This Row],[Prévision budget 2027-2028]]-Income5[[#This Row],[Budget 2026-2027]] -> 0
F17: 0 | G17: =Income5[[#This Row],[Budget 2026-2027]] -> 0 | H17: =Income5[[#This Row],[Prévision budget 2027-2028]]-Income5[[#This Row],[Budget 2026-2027]] -> 0
F18: 0 | G18: =Income5[[#This Row],[Budget 2026-2027]] -> 0 | H18: =Income5[[#This Row],[Prévision budget 2027-2028]]-Income5[[#This Row],[Budget 2026-2027]] -> 0
B19: Total | D19: =SUBTOTAL(109,Income5[Budget réel au 30 juin 2025]) -> 0 | E19: =SUBTOTAL(109,Income5[Budget 2026-2027]) -> 0 | F19: =SUBTOTAL(109,Income5[Réel à ce jour]) -> 0 | G19: =SUBTOTAL(109,Income5[Prévision budget 2027-2028]) -> 0 | H19: =SUBTOTAL(109,Income5[Écart entre 2027-2028 et 2026-2027 (en $)]) -> 0
B21: DÉPENSES
B22: COMPTES DE DÉPENSES | C22: Description | D22: Budget réel au 30 juin 2025 | E22: Budget 2026-2027 | F22: Réel à ce jour | G22: Prévision budget 2027-2028 | H22: Écart entre 2027-2028 et 2026-2027 (en $)
G23: =Expenses4[[#This Row],[Budget 2026-2027]] -> 0 | H23: =Expenses4[[#This Row],[Prévision budget 2027-2028]]-Expenses4[[#This Row],[Budget 2026-2027]] -> 0
G24: =Expenses4[[#This Row],[Budget 2026-2027]] -> 0 | H24: =Expenses4[[#This Row],[Prévision budget 2027-2028]]-Expenses4[[#This Row],[Budget 2026-2027]] -> 0
F25: =GrandLivreGeneral_fonctionnemen!F178 -> 0 | G25: =Expenses4[[#This Row],[Budget 2026-2027]] -> 0 | H25: =Expenses4[[#This Row],[Prévision budget 2027-2028]]-Expenses4[[#This Row],[Budget 2026-2027]] -> 0
G26: =Expenses4[[#This Row],[Budget 2026-2027]] -> 0 | H26: =Expenses4[[#This Row],[Prévision budget 2027-2028]]-Expenses4[[#This Row],[Budget 2026-2027]] -> 0
G27: =Expenses4[[#This Row],[Budget 2026-2027]] -> 0 | H27: =Expenses4[[#This Row],[Prévision budget 2027-2028]]-Expenses4[[#This Row],[Budget 2026-2027]] -> 0
G28: =Expenses4[[#This Row],[Budget 2026-2027]] -> 0 | H28: =Expenses4[[#This Row],[Prévision budget 2027-2028]]-Expenses4[[#This Row],[Budget 2026-2027]] -> 0
D29: 0 | H29: =Expenses4[[#This Row],[Prévision budget 2027-2028]]-Expenses4[[#This Row],[Budget 2026-2027]] -> 0
D30: 0 | H30: =Expenses4[[#This Row],[Prévision budget 2027-2028]]-Expenses4[[#This Row],[Budget 2026-2027]] -> 0
D31: 0 | H31: =Expenses4[[#This Row],[Prévision budget 2027-2028]]-Expenses4[[#This Row],[Budget 2026-2027]] -> 0
D32: 0 | H32: =Expenses4[[#This Row],[Prévision budget 2027-2028]]-Expenses4[[#This Row],[Budget 2026-2027]] -> 0
D33: 0 | H33: =Expenses4[[#This Row],[Prévision budget 2027-2028]]-Expenses4[[#This Row],[Budget 2026-2027]] -> 0
D34: 0 | H34: =Expenses4[[#This Row],[Prévision budget 2027-2028]]-Expenses4[[#This Row],[Budget 2026-2027]] -> 0
D35: 0 | H35: =Expenses4[[#This Row],[Prévision budget 2027-2028]]-Expenses4[[#This Row],[Budget 2026-2027]] -> 0
D36: 0 | H36: =Expenses4[[#This Row],[Prévision budget 2027-2028]]-Expenses4[[#This Row],[Budget 2026-2027]] -> 0
D37: 0 | H37: =Expenses4[[#This Row],[Prévision budget 2027-2028]]-Expenses4[[#This Row],[Budget 2026-2027]] -> 0
D38: 0 | H38: =Expenses4[[#This Row],[Prévision budget 2027-2028]]-Expenses4[[#This Row],[Budget 2026-2027]] -> 0
B39: Total | D39: =SUBTOTAL(109,Expenses4[Budget réel au 30 juin 2025]) -> 0 | E39: =SUBTOTAL(109,Expenses4[Budget 2026-2027]) -> 0 | F39: =SUBTOTAL(109,Expenses4[Réel à ce jour]) -> 0 | G39: =SUBTOTAL(109,Expenses4[Prévision budget 2027-2028]) -> 0 | H39: =SUBTOTAL(101,Expenses4[Écart entre 2027-2028 et 2026-2027 (en $)]) -> 0

Sheet GrandLivreGeneral_fonctionnemen
A1: Grand livre général — fonctionnement
A2: Nom : | B2: Banque compte courant | E2: Compte no | F2: =IFERROR(INDEX(Plancomptable!A:A,MATCH(B2,Plancomptable!B:B,0)),"") -> 1002
A3: Date | B3: Libellé | C3: Réf. | D3: Débit | E3: Crédit | F3: Solde | G3: D/C
A4: 30 juin 2026 | B4: solde | G4: D
F5: =F4+D5-E5 -> 0 | G5: D
F6: =F5+D6-E6 -> 0 | G6: D
C7: JG | F7: =F6+D7-E7 -> 0
C8: JG | F8: =F7+D8-E8 -> 0
C9: JG | F9: =F8+D9-E9 -> 0
C10: JG | F10: =F9+D10-E10 -> 0
C11: JG | F11: =F10+D11-E11 -> 0
C12: JE | F12: =F11+D12-E12 -> 0
C13: JD | F13: =F12+D13-E13 -> 0
C14: JG | F14: =F13+D14-E14 -> 0
C15: JG | F15: =F14+D15-E15 -> 0
C16: =C15 -> JG | F16: =F15+D16-E16 -> 0
A18: Nom : | B18: Petite caisse | E18: Compte no | F18: =IFERROR(INDEX(Plancomptable!A:A,MATCH(B18,Plancomptable!B:B,0)),"") -> 1001
A19: Date | B19: Libellé | C19: Réf. | D19: Débit | E19: Crédit | F19: Solde | G19: D/C
F20: 0
F21: =F20+D21-E21 -> 0
F22: =F21+D22-E22 -> 0
F23: =F22+D23-E23 -> 0
F24: =F23+D24-E24 -> 0
F25: =F24+D25-E25 -> 0
F26: =F25+D26-E26 -> 0
A27: Nom : | B27: Banque compte épargne | E27: Compte no | F27: =IFERROR(INDEX(Plancomptable!A:A,MATCH(B27,Plancomptable!B:B,0)),"") -> 1003
A28: Date | B28: Libellé | C28: Réf. | D28: Débit | E28: Crédit | F28: Solde | G28: D/C
B29: solde | F29: 0
F30: =F29+D30-E30 -> 0
F31: =F30+D31-E31 -> 0
F32: =F31+D32-E32 -> 0
F33: =F32+D33-E33 -> 0
F34: =F33+D34-E34 -> 0
A35: Nom : | B35: Banque placement à court terme | E35: Compte no | F35: =IFERROR(INDEX(Plancomptable!A:A,MATCH(B35,Plancomptable!B:B,0)),"") -> 1004
A36: Date | B36: Libellé | C36: Réf. | D36: Débit | E36: Crédit | F36: Solde | G36: D/C
B37: solde | F37: 0
F38: =F37+D38-E38 -> 0
F39: =F38+D39-E39 -> 0
F40: =F39+D40-E40 -> 0
F41: =F40+D41-E41 -> 0
...

Sheet Etat_fonctionnement
B1: Cercle
B2: État des revenus et des dépenses — fonctionnement
B3: Du xx au xx
B4: Poste | C4: Budget 2026-2027 | D4: Réel à ce jour | E4: Écart | F4: Prévision 2027-2028 | G4: Compte GL
B5: REVENUS | C5: Budget 2026-2027 | D5: Réel à ce jour | E5: Écart | F5: Prévision 2027-2028 | G5: Compte GL
B6: =Budget_fonctionnement!B14 -> 0 | C6: =Budget_fonctionnement!E14 -> 0 | D6: {=IF($G6="",0,IFERROR(_xlfn.LET(_xlpm.a,$G6,_xlpm.r,_xlfn.XMATCH(_xlpm.a,GrandLivreGeneral_fonctionnemen!$F$1:$F$496,0),_xlpm.n,IFERROR(_xlpm.r+_xlfn.XMATCH("Nom :",INDEX(GrandLivreGeneral_fonctionnemen!$A$1:$A$496,_xlpm.r+1):'GrandLivreGeneral_fonctionnemen'!$A$496,0),497),_xlpm.z,INDEX(GrandLivreGeneral_fonctionnemen!$F$1:$F$496,_xlpm.r+1):INDEX(GrandLivreGeneral_fonctionnemen!$F$1:$F$496,_xlpm.n-1),LOOKUP(2,1/(_xlpm.z<>""),_xlpm.z)),0))} -> 0 | E6: =D6-C6 -> 0 | F6: =Budget_fonctionnement!G14 -> 0 | G6: 4001
B7: =Budget_fonctionnement!B15 -> 0 | C7: =Budget_fonctionnement!E15 -> 0 | D7: {=IF($G7="",0,IFERROR(_xlfn.LET(_xlpm.a,$G7,_xlpm.r,_xlfn.XMATCH(_xlpm.a,GrandLivreGeneral_fonctionnemen!$F$1:$F$496,0),_xlpm.n,IFERROR(_xlpm.r+_xlfn.XMATCH("Nom :",INDEX(GrandLivreGeneral_fonctionnemen!$A$1:$A$496,_xlpm.r+1):'GrandLivreGeneral_fonctionnemen'!$A$496,0),497),_xlpm.z,INDEX(GrandLivreGeneral_fonctionnemen!$F$1:$F$496,_xlpm.r+1):INDEX(GrandLivreGeneral_fonctionnemen!$F$1:$F$496,_xlpm.n-1),LOOKUP(2,1/(_xlpm.z<>""),_xlpm.z)),0))} -> 0 | E7: =D7-C7 -> 0 | F7: =Budget_fonctionnement!G15 -> 0 | G7: 4002
B8: =Budget_fonctionnement!B16 -> 0 | C8: =Budget_fonctionnement!E16 -> 0 | D8: {=IF($G8="",0,IFERROR(_xlfn.LET(_xlpm.a,$G8,_xlpm.r,_xlfn.XMATCH(_xlpm.a,GrandLivreGeneral_fonctionnemen!$F$1:$F$496,0),_xlpm.n,IFERROR(_xlpm.r+_xlfn.XMATCH("Nom :",INDEX(GrandLivreGeneral_fonctionnemen!$A$1:$A$496,_xlpm.r+1):'GrandLivreGeneral_fonctionnemen'!$A$496,0),497),_xlpm.z,INDEX(GrandLivreGeneral_fonctionnemen!$F$1:$F$496,_xlpm.r+1):INDEX(GrandLivreGeneral_fonctionnemen!$F$1:$F$496,_xlpm.n-1),LOOKUP(2,1/(_xlpm.z<>""),_xlpm.z)),0))} -> 0 | E8: =D8-C8 -> 0 | F8: =Budget_fonctionnement!G16 -> 0
B9: =Budget_fonctionnement!B17 -> 0 | C9: =Budget_fonctionnement!E17 -> 0 | D9: {=IF($G9="",0,IFERROR(_xlfn.LET(_xlpm.a,$G9,_xlpm.r,_xlfn.XMATCH(_xlpm.a,GrandLivreGeneral_fonctionnemen!$F$1:$F$496,0),_xlpm.n,IFERROR(_xlpm.r+_xlfn.XMATCH("Nom :",INDEX(GrandLivreGeneral_fonctionnemen!$A$1:$A$496,_xlpm.r+1):'GrandLivreGeneral_fonctionnemen'!$A$496,0),497),_xlpm.z,INDEX(GrandLivreGeneral_fonctionnemen!$F$1:$F$496,_xlpm.r+1):INDEX(GrandLivreGeneral_fonctionnemen!$F$1:$F$496,_xlpm.n-1),LOOKUP(2,1/(_xlpm.z<>""),_xlpm.z)),0))} -> 0 | E9: =D9-C9 -> 0 | F9: =Budget_fonctionnement!G17 -> 0 | G9: 4490
B10: =Budget_fonctionnement!B18 -> 0 | C10: =Budget_fonctionnement!E18 -> 0 | D10: {=IF($G10="",0,IFERROR(_xlfn.LET(_xlpm.a,$G10,_xlpm.r,_xlfn.XMATCH(_xlpm.a,GrandLivreGeneral_fonctionnemen!$F$1:$F$496,0),_xlpm.n,IFERROR(_xlpm.r+_xlfn.XMATCH("Nom :",INDEX(GrandLivreGeneral_fonctionnemen!$A$1:$A$496,_xlpm.r+1):'GrandLivreGeneral_fonctionnemen'!$A$496,0),497),_xlpm.z,INDEX(GrandLivreGeneral_fonctionnemen!$F$1:$F$496,_xlpm.r+1):INDEX(GrandLivreGeneral_fonctionnemen!$F$1:$F$496,_xlpm.n-1),LOOKUP(2,1/(_xlpm.z<>""),_xlpm.z)),0))} -> 0 | E10: =D10-C10 -> 0 | F10: =Budget_fonctionnement!G18 -> 0
B11: =Budget_fonctionnement!B19 -> Total | C11: =Budget_fonctionnement!E19 -> 0 | D11: =SUM(D6:D10) -> 0 | E11: =D11-C11 -> 0 | F11: =Budget_fonctionnement!G19 -> 0
B13: DÉPENSES | C13: Budget 2026-2027 | D13: Réel à ce jour | E13: Écart | F13: Prévision 2027-2028 | G13: Compte GL
B14: =Budget_fonctionnement!B23 -> 0 | C14: =Budget_fonctionnement!E23 -> 0 | D14: {=IF($G14="",0,IFERROR(_xlfn.LET(_xlpm.a,$G14,_xlpm.r,_xlfn.XMATCH(_xlpm.a,GrandLivreGeneral_fonctionnemen!$F$1:$F$496,0),_xlpm.n,IFERROR(_xlpm.r+_xlfn.XMATCH("Nom :",INDEX(GrandLivreGeneral_fonctionnemen!$A$1:$A$496,_xlpm.r+1):'GrandLivreGeneral_fonctionnemen'!$A$496,0),497),_xlpm.z,INDEX(GrandLivreGeneral_fonctionnemen!$F$1:$F$496,_xlpm.r+1):INDEX(GrandLivreGeneral_fonctionnemen!$F$1:$F$496,_xlpm.n-1),LOOKUP(2,1/(_xlpm.z<>""),_xlpm.z)),0))} -> 0 | E14: =D14-C14 -> 0 | F14: =Budget_fonctionnement!G23 -> 0 | G14: =IF(OR(B14="",B14=0),"",IFERROR(_xlfn.XLOOKUP(B14,Plancomptable!$B$43:$B$190,Plancomptable!$A$43:$A$190),""))
B15: =Budget_fonctionnement!B24 -> 0 | C15: =Budget_fonctionnement!E24 -> 0 | D15: {=IF($G15="",0,IFERROR(_xlfn.LET(_xlpm.a,$G15,_xlpm.r,_xlfn.XMATCH(_xlpm.a,GrandLivreGeneral_fonctionnemen!$F$1:$F$496,0),_xlpm.n,IFERROR(_xlpm.r+_xlfn.XMATCH("Nom :",INDEX(GrandLivreGeneral_fonctionnemen!$A$1:$A$496,_xlpm.r+1):'GrandLivreGeneral_fonctionnemen'!$A$496,0),497),_xlpm.z,INDEX(GrandLivreGeneral_fonctionnemen!$F$1:$F$496,_xlpm.r+1):INDEX(GrandLivreGeneral_fonctionnemen!$F$1:$F$496,_xlpm.n-1),LOOKUP(2,1/(_xlpm.z<>""),_xlpm.z)),0))} -> 0 | E15: =D15-C15 -> 0 | F15: =Budget_fonctionnement!G24 -> 0 | G15: =IF(OR(B15="",B15=0),"",IFERROR(_xlfn.XLOOKUP(B15,Plancomptable!$B$43:$B$190,Plancomptable!$A$43:$A$190),""))
B16: =Budget_fonctionnement!B25 -> 0 | C16: =Budget_fonctionnement!E25 -> 0 | D16: {=IF($G16="",0,IFERROR(_xlfn.LET(_xlpm.a,$G16,_xlpm.r,_xlfn.XMATCH(_xlpm.a,GrandLivreGeneral_fonctionnemen!$F$1:$F$496,0),_xlpm.n,IFERROR(_xlpm.r+_xlfn.XMATCH("Nom :",INDEX(GrandLivreGeneral_fonctionnemen!$A$1:$A$496,_xlpm.r+1):'GrandLivreGeneral_fonctionnemen'!$A$496,0),497),_xlpm.z,INDEX(GrandLivreGeneral_fonctionnemen!$F$1:$F$496,_xlpm.r+1):INDEX(GrandLivreGeneral_fonctionnemen!$F$1:$F$496,_xlpm.n-1),LOOKUP(2,1/(_xlpm.z<>""),_xlpm.z)),0))} -> 0 | E16: =D16-C16 -> 0 | F16: =Budget_fonctionnement!G25 -> 0 | G16: =IF(OR(B16="",B16=0),"",IFERROR(_xlfn.XLOOKUP(B16,Plancomptable!$B$43:$B$190,Plancomptable!$A$43:$A$190),""))
B17: =Budget_fonctionnement!B26 -> 0 | C17: =Budget_fonctionnement!E26 -> 0 | D17: {=IF($G17="",0,IFERROR(_xlfn.LET(_xlpm.a,$G17,_xlpm.r,_xlfn.XMATCH(_xlpm.a,GrandLivreGeneral_fonctionnemen!$F$1:$F$496,0),_xlpm.n,IFERROR(_xlpm.r+_xlfn.XMATCH("Nom :",INDEX(GrandLivreGeneral_fonctionnemen!$A$1:$A$496,_xlpm.r+1):'GrandLivreGeneral_fonctionnemen'!$A$496,0),497),_xlpm.z,INDEX(GrandLivreGeneral_fonctionnemen!$F$1:$F$496,_xlpm.r+1):INDEX(GrandLivreGeneral_fonctionnemen!$F$1:$F$496,_xlpm.n-1),LOOKUP(2,1/(_xlpm.z<>""),_xlpm.z)),0))} -> 0 | E17: =D17-C17 -> 0 | F17: =Budget_fonctionnement!G26 -> 0 | G17: =IF(OR(B17="",B17=0),"",IFERROR(_xlfn.XLOOKUP(B17,Plancomptable!$B$43:$B$190,Plancomptable!$A$43:$A$190),""))
B18: =Budget_fonctionnement!B27 -> 0 | C18: =Budget_fonctionnement!E27 -> 0 | D18: {=IF($G18="",0,IFERROR(_xlfn.LET(_xlpm.a,$G18,_xlpm.r,_xlfn.XMATCH(_xlpm.a,GrandLivreGeneral_fonctionnemen!$F$1:$F$496,0),_xlpm.n,IFERROR(_xlpm.r+_xlfn.XMATCH("Nom :",INDEX(GrandLivreGeneral_fonctionnemen!$A$1:$A$496,_xlpm.r+1):'GrandLivreGeneral_fonctionnemen'!$A$496,0),497),_xlpm.z,INDEX(GrandLivreGeneral_fonctionnemen!$F$1:$F$496,_xlpm.r+1):INDEX(GrandLivreGeneral_fonctionnemen!$F$1:$F$496,_xlpm.n-1),LOOKUP(2,1/(_xlpm.z<>""),_xlpm.z)),0))} -> 0 | E18: =D18-C18 -> 0 | F18: =Budget_fonctionnement!G27 -> 0 | G18: =IF(OR(B18="",B18=0),"",IFERROR(_xlfn.XLOOKUP(B18,Plancomptable!$B$43:$B$190,Plancomptable!$A$43:$A$190),""))
B19: =Budget_fonctionnement!B28 -> 0 | C19: =Budget_fonctionnement!E28 -> 0 | D19: {=IF($G19="",0,IFERROR(_xlfn.LET(_xlpm.a,$G19,_xlpm.r,_xlfn.XMATCH(_xlpm.a,GrandLivreGeneral_fonctionnemen!$F$1:$F$496,0),_xlpm.n,IFERROR(_xlpm.r+_xlfn.XMATCH("Nom :",INDEX(GrandLivreGeneral_fonctionnemen!$A$1:$A$496,_xlpm.r+1):'GrandLivreGeneral_fonctionnemen'!$A$496,0),497),_xlpm.z,INDEX(GrandLivreGeneral_fonctionnemen!$F$1:$F$496,_xlpm.r+1):INDEX(GrandLivreGeneral_fonctionnemen!$F$1:$F$496,_xlpm.n-1),LOOKUP(2,1/(_xlpm.z<>""),_xlpm.z)),0))} -> 0 | E19: =D19-C19 -> 0 | F19: =Budget_fonctionnement!G28 -> 0 | G19: =IF(OR(B19="",B19=0),"",IFERROR(_xlfn.XLOOKUP(B19,Plancomptable!$B$43:$B$190,Plancomptable!$A$43:$A$190),""))
B20: =Budget_fonctionnement!B29 -> 0 | C20: =Budget_fonctionnement!E29 -> 0 | D20: {=IF($G20="",0,IFERROR(_xlfn.LET(_xlpm.a,$G20,_xlpm.r,_xlfn.XMATCH(_xlpm.a,GrandLivreGeneral_fonctionnemen!$F$1:$F$496,0),_xlpm.n,IFERROR(_xlpm.r+_xlfn.XMATCH("Nom :",INDEX(GrandLivreGeneral_fonctionnemen!$A$1:$A$496,_xlpm.r+1):'GrandLivreGeneral_fonctionnemen'!$A$496,0),497),_xlpm.z,INDEX(GrandLivreGeneral_fonctionnemen!$F$1:$F$496,_xlpm.r+1):INDEX(GrandLivreGeneral_fonctionnemen!$F$1:$F$496,_xlpm.n-1),LOOKUP(2,1/(_xlpm.z<>""),_xlpm.z)),0))} -> 0 | E20: =D20-C20 -> 0 | F20: =Budget_fonctionnement!G29 -> 0 | G20: =IF(OR(B20="",B20=0),"",IFERROR(_xlfn.XLOOKUP(B20,Plancomptable!$B$43:$B$190,Plancomptable!$A$43:$A$190),""))
B21: =Budget_fonctionnement!B30 -> 0 | C21: =Budget_fonctionnement!E30 -> 0 | D21: {=IF($G21="",0,IFERROR(_xlfn.LET(_xlpm.a,$G21,_xlpm.r,_xlfn.XMATCH(_xlpm.a,GrandLivreGeneral_fonctionnemen!$F$1:$F$496,0),_xlpm.n,IFERROR(_xlpm.r+_xlfn.XMATCH("Nom :",INDEX(GrandLivreGeneral_fonctionnemen!$A$1:$A$496,_xlpm.r+1):'GrandLivreGeneral_fonctionnemen'!$A$496,0),497),_xlpm.z,INDEX(GrandLivreGeneral_fonctionnemen!$F$1:$F$496,_xlpm.r+1):INDEX(GrandLivreGeneral_fonctionnemen!$F$1:$F$496,_xlpm.n-1),LOOKUP(2,1/(_xlpm.z<>""),_xlpm.z)),0))} -> 0 | E21: =D21-C21 -> 0 | F21: =Budget_fonctionnement!G30 -> 0 | G21: =IF(OR(B21="",B21=0),"",IFERROR(_xlfn.XLOOKUP(B21,Plancomptable!$B$43:$B$190,Plancomptable!$A$43:$A$190),""))
B22: =Budget_fonctionnement!B31 -> 0 | C22: =Budget_fonctionnement!E31 -> 0 | D22: {=IF($G22="",0,IFERROR(_xlfn.LET(_xlpm.a,$G22,_xlpm.r,_xlfn.XMATCH(_xlpm.a,GrandLivreGeneral_fonctionnemen!$F$1:$F$496,0),_xlpm.n,IFERROR(_xlpm.r+_xlfn.XMATCH("Nom :",INDEX(GrandLivreGeneral_fonctionnemen!$A$1:$A$496,_xlpm.r+1):'GrandLivreGeneral_fonctionnemen'!$A$496,0),497),_xlpm.z,INDEX(GrandLivreGeneral_fonctionnemen!$F$1:$F$496,_xlpm.r+1):INDEX(GrandLivreGeneral_fonctionnemen!$F$1:$F$496,_xlpm.n-1),LOOKUP(2,1/(_xlpm.z<>""),_xlpm.z)),0))} -> 0 | E22: =D22-C22 -> 0 | F22: =Budget_fonctionnement!G31 -> 0 | G22: =IF(OR(B22="",B22=0),"",IFERROR(_xlfn.XLOOKUP(B22,Plancomptable!$B$43:$B$190,Plancomptable!$A$43:$A$190),""))
B23: =Budget_fonctionnement!B32 -> 0 | C23: =Budget_fonctionnement!E32 -> 0 | D23: {=IF($G23="",0,IFERROR(_xlfn.LET(_xlpm.a,$G23,_xlpm.r,_xlfn.XMATCH(_xlpm.a,GrandLivreGeneral_fonctionnemen!$F$1:$F$496,0),_xlpm.n,IFERROR(_xlpm.r+_xlfn.XMATCH("Nom :",INDEX(GrandLivreGeneral_fonctionnemen!$A$1:$A$496,_xlpm.r+1):'GrandLivreGeneral_fonctionnemen'!$A$496,0),497),_xlpm.z,INDEX(GrandLivreGeneral_fonctionnemen!$F$1:$F$496,_xlpm.r+1):INDEX(GrandLivreGeneral_fonctionnemen!$F$1:$F$496,_xlpm.n-1),LOOKUP(2,1/(_xlpm.z<>""),_xlpm.z)),0))} -> 0 | E23: =D23-C23 -> 0 | F23: =Budget_fonctionnement!G32 -> 0 | G23: =IF(OR(B23="",B23=0),"",IFERROR(_xlfn.XLOOKUP(B23,Plancomptable!$B$43:$B$190,Plancomptable!$A$43:$A$190),""))
B24: =Budget_fonctionnement!B33 -> 0 | C24: =Budget_fonctionnement!E33 -> 0 | D24: {=IF($G24="",0,IFERROR(_xlfn.LET(_xlpm.a,$G24,_xlpm.r,_xlfn.XMATCH(_xlpm.a,GrandLivreGeneral_fonctionnemen!$F$1:$F$496,0),_xlpm.n,IFERROR(_xlpm.r+_xlfn.XMATCH("Nom :",INDEX(GrandLivreGeneral_fonctionnemen!$A$1:$A$496,_xlpm.r+1):'GrandLivreGeneral_fonctionnemen'!$A$496,0),497),_xlpm.z,INDEX(GrandLivreGeneral_fonctionnemen!$F$1:$F$496,_xlpm.r+1):INDEX(GrandLivreGeneral_fonctionnemen!$F$1:$F$496,_xlpm.n-1),LOOKUP(2,1/(_xlpm.z<>""),_xlpm.z)),0))} -> 0 | E24: =D24-C24 -> 0 | F24: =Budget_fonctionnement!G33 -> 0 | G24: =IF(OR(B24="",B24=0),"",IFERROR(_xlfn.XLOOKUP(B24,Plancomptable!$B$43:$B$190,Plancomptable!$A$43:$A$190),""))
B25: =Budget_fonctionnement!B34 -> 0 | C25: =Budget_fonctionnement!E34 -> 0 | D25: {=IF($G25="",0,IFERROR(_xlfn.LET(_xlpm.a,$G25,_xlpm.r,_xlfn.XMATCH(_xlpm.a,GrandLivreGeneral_fonctionnemen!$F$1:$F$496,0),_xlpm.n,IFERROR(_xlpm.r+_xlfn.XMATCH("Nom :",INDEX(GrandLivreGeneral_fonctionnemen!$A$1:$A$496,_xlpm.r+1):'GrandLivreGeneral_fonctionnemen'!$A$496,0),497),_xlpm.z,INDEX(GrandLivreGeneral_fonctionnemen!$F$1:$F$496,_xlpm.r+1):INDEX(GrandLivreGeneral_fonctionnemen!$F$1:$F$496,_xlpm.n-1),LOOKUP(2,1/(_xlpm.z<>""),_xlpm.z)),0))} -> 0 | E25: =D25-C25 -> 0 | F25: =Budget_fonctionnement!G34 -> 0 | G25: =IF(OR(B25="",B25=0),"",IFERROR(_xlfn.XLOOKUP(B25,Plancomptable!$B$43:$B$190,Plancomptable!$A$43:$A$190),""))
... B29: =Budget_fonctionnement!B38 -> 0 | C29: =Budget_fonctionnement!E38 -> 0 | D29: {=IF($G29="",0,IFERROR(_xlfn.LET(_xlpm.a,$G29,_xlpm.r,_xlfn.XMATCH(_xlpm.a,GrandLivreGeneral_fonctionnemen!$F$1:$F$496,0),_xlpm.n,IFERROR(_xlpm.r+_xlfn.XMATCH("Nom :",INDEX(GrandLivreGeneral_fonctionnemen!$A$1:$A$496,_xlpm.r+1):'GrandLivreGeneral_fonctionnemen'!$A$496,0),497),_xlpm.z,INDEX(GrandLivreGeneral_fonctionnemen!$F$1:$F$496,_xlpm.r+1):INDEX(GrandLivreGeneral_fonctionnemen!$F$1:$F$496,_xlpm.n-1),LOOKUP(2,1/(_xlpm.z<>""),_xlpm.z)),0))} -> 0 | E29: =D29-C29 -> 0 | F29: =Budget_fonctionnement!G38 -> 0 | G29: =IF(OR(B29="",B29=0),"",IFERROR(_xlfn.XLOOKUP(B29,Plancomptable!$B$43:$B$190,Plancomptable!$A$43:$A$190),""))
B32: =Budget_fonctionnement!B39 -> Total | C32: =Budget_fonctionnement!E39 -> 0 | D32: =SUM(D14:D29) -> 0 | E32: =D32-C32 -> 0 | F32: =Budget_fonctionnement!G39 -> 0
B35: REVENU NET | C35: =C11-C32 -> 0 | D35: =D11-D32 -> 0 | E35: =D35-C35 -> 0 | F35: =F11-F32 -> 0
B37: Budgets liés à Budget_fonctionnement; réel lié au GrandLivreGeneral_fonctionnemen
B38: Les montants réels se mettent à jour selon le numéro de compte indiqué dans la colonne Compte GL.

Sheet Bilan_fonctionnement
B1: Cercle
B2: BILAN FINANCIER — FONCTIONNEMENT
B3: Exercice 2026-2027 | D3: Date du bilan | E3: 2 septembre 2026
B4: Soldes liés au plan comptable et au grand livre général; le bénéfice courant provient de l’état des revenus et dépenses.
B5: N° | C5: Poste | D5: Solde | E5: Source | F5: Statut
C6: ACTIF
B7: 1001 | C7: =IFERROR(_xlfn.XLOOKUP($B7,Plancomptable!$A$1:$A$190,Plancomptable!$B$1:$B$190),"Compte non trouvé") -> Petite caisse | D7: {=IFERROR(_xlfn.LET(_xlpm.a,$B7,_xlpm.r,_xlfn.XMATCH(_xlpm.a,GrandLivreGeneral_fonctionnemen!$F$1:$F$504,0),_xlpm.n,IFERROR(_xlpm.r+_xlfn.XMATCH("Nom :",INDEX(GrandLivreGeneral_fonctionnemen!$A$1:$A$504,_xlpm.r+1):'GrandLivreGeneral_fonctionnemen'!$A$504,0),497),_xlpm.z,INDEX(GrandLivreGeneral_fonctionnemen!$F$1:$F$504,_xlpm.r+1):INDEX(GrandLivreGeneral_fonctionnemen!$F$1:$F$504,_xlpm.n-1),LOOKUP(2,1/(_xlpm.z<>""),_xlpm.z)),0)} -> 0 | E7: Grand livre | F7: =IF(COUNTIF(GrandLivreGeneral_fonctionnemen!$F$1:$F$504,$B7)=0,"À configurer","Lié") -> Lié
B8: 1002 | C8: =IFERROR(_xlfn.XLOOKUP($B8,Plancomptable!$A$1:$A$190,Plancomptable!$B$1:$B$190),"Compte non trouvé") -> Banque compte courant | D8: {=IFERROR(_xlfn.LET(_xlpm.a,$B8,_xlpm.r,_xlfn.XMATCH(_xlpm.a,GrandLivreGeneral_fonctionnemen!$F$1:$F$504,0),_xlpm.n,IFERROR(_xlpm.r+_xlfn.XMATCH("Nom :",INDEX(GrandLivreGeneral_fonctionnemen!$A$1:$A$504,_xlpm.r+1):'GrandLivreGeneral_fonctionnemen'!$A$504,0),497),_xlpm.z,INDEX(GrandLivreGeneral_fonctionnemen!$F$1:$F$504,_xlpm.r+1):INDEX(GrandLivreGeneral_fonctionnemen!$F$1:$F$504,_xlpm.n-1),LOOKUP(2,1/(_xlpm.z<>""),_xlpm.z)),0)} -> 0 | E8: Grand livre | F8: =IF(COUNTIF(GrandLivreGeneral_fonctionnemen!$F$1:$F$504,$B8)=0,"À configurer","Lié") -> Lié
B9: 1003 | C9: =IFERROR(_xlfn.XLOOKUP($B9,Plancomptable!$A$1:$A$190,Plancomptable!$B$1:$B$190),"Compte non trouvé") -> Banque compte épargne | D9: {=IFERROR(_xlfn.LET(_xlpm.a,$B9,_xlpm.r,_xlfn.XMATCH(_xlpm.a,GrandLivreGeneral_fonctionnemen!$F$1:$F$504,0),_xlpm.n,IFERROR(_xlpm.r+_xlfn.XMATCH("Nom :",INDEX(GrandLivreGeneral_fonctionnemen!$A$1:$A$504,_xlpm.r+1):'GrandLivreGeneral_fonctionnemen'!$A$504,0),497),_xlpm.z,INDEX(GrandLivreGeneral_fonctionnemen!$F$1:$F$504,_xlpm.r+1):INDEX(GrandLivreGeneral_fonctionnemen!$F$1:$F$504,_xlpm.n-1),LOOKUP(2,1/(_xlpm.z<>""),_xlpm.z)),0)} -> 0 | E9: Grand livre | F9: =IF(COUNTIF(GrandLivreGeneral_fonctionnemen!$F$1:$F$504,$B9)=0,"À configurer","Lié") -> Lié
B10: 1004 | C10: =IFERROR(_xlfn.XLOOKUP($B10,Plancomptable!$A$1:$A$190,Plancomptable!$B$1:$B$190),"Compte non trouvé") -> Banque placement à court terme | D10: {=IFERROR(_xlfn.LET(_xlpm.a,$B10,_xlpm.r,_xlfn.XMATCH(_xlpm.a,GrandLivreGeneral_fonctionnemen!$F$1:$F$504,0),_xlpm.n,IFERROR(_xlpm.r+_xlfn.XMATCH("Nom :",INDEX(GrandLivreGeneral_fonctionnemen!$A$1:$A$504,_xlpm.r+1):'GrandLivreGeneral_fonctionnemen'!$A$504,0),497),_xlpm.z,INDEX(GrandLivreGeneral_fonctionnemen!$F$1:$F$504,_xlpm.r+1):INDEX(GrandLivreGeneral_fonctionnemen!$F$1:$F$504,_xlpm.n-1),LOOKUP(2,1/(_xlpm.z<>""),_xlpm.z)),0)} -> 0 | E10: Grand livre | F10: =IF(COUNTIF(GrandLivreGeneral_fonctionnemen!$F$1:$F$504,$B10)=0,"À configurer","Lié") -> Lié
B11: 1100 | C11: =IFERROR(_xlfn.XLOOKUP($B11,Plancomptable!$A$1:$A$190,Plancomptable!$B$1:$B$190),"Compte non trouvé") -> Dépôt à termes | D11: {=IFERROR(_xlfn.LET(_xlpm.a,$B11,_xlpm.r,_xlfn.XMATCH(_xlpm.a,GrandLivreGeneral_fonctionnemen!$F$1:$F$504,0),_xlpm.n,IFERROR(_xlpm.r+_xlfn.XMATCH("Nom :",INDEX(GrandLivreGeneral_fonctionnemen!$A$1:$A$504,_xlpm.r+1):'GrandLivreGeneral_fonctionnemen'!$A$504,0),497),_xlpm.z,INDEX(GrandLivreGeneral_fonctionnemen!$F$1:$F$504,_xlpm.r+1):INDEX(GrandLivreGeneral_fonctionnemen!$F$1:$F$504,_xlpm.n-1),LOOKUP(2,1/(_xlpm.z<>""),_xlpm.z)),0)} -> 0 | E11: Grand livre | F11: =IF(COUNTIF(GrandLivreGeneral_fonctionnemen!$F$1:$F$504,$B11)=0,"À configurer","Lié") -> Lié
B12: 1200 | C12: =IFERROR(_xlfn.XLOOKUP($B12,Plancomptable!$A$1:$A$190,Plancomptable!$B$1:$B$190),"Compte non trouvé") -> Montant à recevoir | D12: {=IFERROR(_xlfn.LET(_xlpm.a,$B12,_xlpm.r,_xlfn.XMATCH(_xlpm.a,GrandLivreGeneral_fonctionnemen!$F$1:$F$504,0),_xlpm.n,IFERROR(_xlpm.r+_xlfn.XMATCH("Nom :",INDEX(GrandLivreGeneral_fonctionnemen!$A$1:$A$504,_xlpm.r+1):'GrandLivreGeneral_fonctionnemen'!$A$504,0),497),_xlpm.z,INDEX(GrandLivreGeneral_fonctionnemen!$F$1:$F$504,_xlpm.r+1):INDEX(GrandLivreGeneral_fonctionnemen!$F$1:$F$504,_xlpm.n-1),LOOKUP(2,1/(_xlpm.z<>""),_xlpm.z)),0)} -> 0 | E12: Grand livre | F12: =IF(COUNTIF(GrandLivreGeneral_fonctionnemen!$F$1:$F$504,$B12)=0,"À configurer","Lié") -> Lié
B13: 1300 | C13: =IFERROR(_xlfn.XLOOKUP($B13,Plancomptable!$A$1:$A$190,Plancomptable!$B$1:$B$190),"Compte non trouvé") -> Dépenses payées d'avance | D13: {=IFERROR(_xlfn.LET(_xlpm.a,$B13,_xlpm.r,_xlfn.XMATCH(_xlpm.a,GrandLivreGeneral_fonctionnemen!$F$1:$F$504,0),_xlpm.n,IFERROR(_xlpm.r+_xlfn.XMATCH("Nom :",INDEX(GrandLivreGeneral_fonctionnemen!$A$1:$A$504,_xlpm.r+1):'GrandLivreGeneral_fonctionnemen'!$A$504,0),497),_xlpm.z,INDEX(GrandLivreGeneral_fonctionnemen!$F$1:$F$504,_xlpm.r+1):INDEX(GrandLivreGeneral_fonctionnemen!$F$1:$F$504,_xlpm.n-1),LOOKUP(2,1/(_xlpm.z<>""),_xlpm.z)),0)} -> 0 | E13: Grand livre | F13: =IF(COUNTIF(GrandLivreGeneral_fonctionnemen!$F$1:$F$504,$B13)=0,"À configurer","Lié") -> Lié
C14: TOTAL DE L’ACTIF | D14: =SUM(D7:D13) -> 0
C16: PASSIF
B17: 2100 | C17: =IFERROR(_xlfn.XLOOKUP($B17,Plancomptable!$A$1:$A$190,Plancomptable!$B$1:$B$190),"Compte non trouvé") -> Comptes fournisseurs | D17: {=IFERROR(_xlfn.LET(_xlpm.a,$B17,_xlpm.r,_xlfn.XMATCH(_xlpm.a,GrandLivreGeneral_fonctionnemen!$F$1:$F$504,0),_xlpm.n,IFERROR(_xlpm.r+_xlfn.XMATCH("Nom :",INDEX(GrandLivreGeneral_fonctionnemen!$A$1:$A$504,_xlpm.r+1):'GrandLivreGeneral_fonctionnemen'!$A$504,0),497),_xlpm.z,INDEX(GrandLivreGeneral_fonctionnemen!$F$1:$F$504,_xlpm.r+1):INDEX(GrandLivreGeneral_fonctionnemen!$F$1:$F$504,_xlpm.n-1),LOOKUP(2,1/(_xlpm.z<>""),_xlpm.z)),0)} -> 0 | E17: Grand livre | F17: =IF(COUNTIF(GrandLivreGeneral_fonctionnemen!$F$1:$F$504,$B17)=0,"À configurer","Lié") -> Lié
B18: 2101 | C18: =IFERROR(_xlfn.XLOOKUP($B18,Plancomptable!$A$1:$A$190,Plancomptable!$B$1:$B$190),"Compte non trouvé") -> Revenus différés | D18: {=IFERROR(_xlfn.LET(_xlpm.a,$B18,_xlpm.r,_xlfn.XMATCH(_xlpm.a,GrandLivreGeneral_fonctionnemen!$F$1:$F$504,0),_xlpm.n,IFERROR(_xlpm.r+_xlfn.XMATCH("Nom :",INDEX(GrandLivreGeneral_fonctionnemen!$A$1:$A$504,_xlpm.r+1):'GrandLivreGeneral_fonctionnemen'!$A$504,0),497),_xlpm.z,INDEX(GrandLivreGeneral_fonctionnemen!$F$1:$F$504,_xlpm.r+1):INDEX(GrandLivreGeneral_fonctionnemen!$F$1:$F$504,_xlpm.n-1),LOOKUP(2,1/(_xlpm.z<>""),_xlpm.z)),0)} -> 0 | E18: Grand livre | F18: =IF(COUNTIF(GrandLivreGeneral_fonctionnemen!$F$1:$F$504,$B18)=0,"À configurer","Lié") -> Lié
C19: TOTAL DU PASSIF | D19: =SUM(D17:D18) -> 0
C21: AVOIR DES PROPRIÉTAIRES
B22: 3500 | C22: =IFERROR(_xlfn.XLOOKUP($B22,Plancomptable!$A$1:$A$190,Plancomptable!$B$1:$B$190),"Compte non trouvé") -> Bénéfices non répartis | D22: {=IFERROR(_xlfn.LET(_xlpm.a,$B22,_xlpm.r,_xlfn.XMATCH(_xlpm.a,GrandLivreGeneral_fonctionnemen!$F$1:$F$504,0),_xlpm.n,IFERROR(_xlpm.r+_xlfn.XMATCH("Nom :",INDEX(GrandLivreGeneral_fonctionnemen!$A$1:$A$504,_xlpm.r+1):'GrandLivreGeneral_fonctionnemen'!$A$504,0),497),_xlpm.z,INDEX(GrandLivreGeneral_fonctionnemen!$F$1:$F$504,_xlpm.r+1):INDEX(GrandLivreGeneral_fonctionnemen!$F$1:$F$504,_xlpm.n-1),LOOKUP(2,1/(_xlpm.z<>""),_xlpm.z)),0)} -> 0 | E22: Grand livre | F22: =IF(COUNTIF(GrandLivreGeneral_fonctionnemen!$F$1:$F$504,$B22)=0,"À configurer","Lié") -> Lié
B23: 3510 | C23: =IFERROR(_xlfn.XLOOKUP($B23,Plancomptable!$A$1:$A$190,Plancomptable!$B$1:$B$190),"Compte non trouvé") -> Bénféfices non répartis - ex. précédent | D23: {=IFERROR(_xlfn.LET(_xlpm.a,$B23,_xlpm.r,_xlfn.XMATCH(_xlpm.a,GrandLivreGeneral_fonctionnemen!$F$1:$F$504,0),_xlpm.n,IFERROR(_xlpm.r+_xlfn.XMATCH("Nom :",INDEX(GrandLivreGeneral_fonctionnemen!$A$1:$A$504,_xlpm.r+1):'GrandLivreGeneral_fonctionnemen'!$A$504,0),497),_xlpm.z,INDEX(GrandLivreGeneral_fonctionnemen!$F$1:$F$504,_xlpm.r+1):INDEX(GrandLivreGeneral_fonctionnemen!$F$1:$F$504,_xlpm.n-1),LOOKUP(2,1/(_xlpm.z<>""),_xlpm.z)),0)} -> Solde | E23: Grand livre | F23: =IF(COUNTIF(GrandLivreGeneral_fonctionnemen!$F$1:$F$504,$B23)=0,"À configurer","Lié") -> Lié
B24: 3600 | C24: =IFERROR(_xlfn.XLOOKUP($B24,Plancomptable!$A$1:$A$190,Plancomptable!$B$1:$B$190),"Compte non trouvé") -> Bénéfice courant | D24: =Etat_fonctionnement!D35 -> 0 | E24: État des revenus et dépenses | F24: Lié
C25: TOTAL DE L’AVOIR | D25: =SUM(D22:D24) -> 0
C27: TOTAL DU PASSIF ET DE L’AVOIR | D27: =D19+D25 -> 0
C29: CONTRÔLE DE L’ÉQUATION COMPTABLE
C30: Actif – Passif – Avoir | D30: =D14-D27 -> 0 | E30: Contrôle | F30: =IF(ABS(D30)<0.01,"Équilibré","À concilier") -> Équilibré
B32: =COUNTIF(F7:F13,"À configurer")+COUNTIF(F17:F18,"À configurer")+COUNTIF(F22:F23,"À configurer")&" compte(s) du bilan ne sont pas encore identifiés par un numéro dans le grand livre." -> 0 compte(s) du bilan ne sont pas encore identifiés par un numéro dans le grand livre.
B33: Pour alimenter un solde, inscrire le numéro du compte dans la cellule « Compte no » du bloc correspondant du grand livre.

Sheet Conciliation_bancaire_fonct.
A1: Cercle
A2: Conciliation bancaire — fonctionnement
A3: Mois
A5: SOMMAIRE | D5: AJUSTEMENTS
A6: Solde selon la banque | D6: Dépôts en transit
A7: Solde selon le grand livre | D7: Chèques en circulation
A8: Additions | D8: Autres ajustements
A9: Soustractions | D9: Références / notes
A10: Solde ajusté
A12: Solde banque + additions - soustractions = solde ajusté
A14: Détails des éléments en transit
A15: Date | B15: Description | C15: Montant | D15: Note | E15: Date | F15: Description | G15: Montant | H15: Note

Sheet Plancomptable_Perf
A1: AEFNB
A2: Plan comptable
A3: N° | B3: Description
A4: Plan comptable - Exercice courant (2027)
A5: ACTIF | G5: Légende : | H5: Catégorie
A6: 1000 | B6: Actifs à court terme | G6: 1 | H6: Actif
A7: 1001 | B7: Petite caisse | G7: 2 | H7: Passif
A8: 1002 | B8: Banque compte courant | G8: 3 | H8: Capitaux propres
A9: 1003 | B9: Banque compte épargne | G9: 4 | H9: Produits
A10: 1004 | B10: Banque placement à court terme | G10: 5 | H10: Charges
A11: 1099 | B11: Total de l'encaisse
A12: 1100 | B12: Dépôt à termes
A13: 1200 | B13: Montant à recevoir
A14: 1299 | B14: Total à recevoir
A15: 1300 | B15: Dépenses payées d'avance
A16: 1400 | B16: Total actifs à court terme
A17: Passif
A18: 2100 | B18: Comptes fournisseurs
A19: 2101 | B19: Revenus différés
A20: 2199 | B20: Total du passif
A21: Avoir des propriétaires
A22: 3500 | B22: Bénéfices non répartis
A23: 3510 | B23: Bénféfices non répartis - ex. précédent
A24: 3600 | B24: Bénéfice courant
A25: 3699 | B25: Total de l'avoir des propriétaires
A26: PRODUIT
A27: 4000 | B27: =Liste!B3 -> Ristourne d'assurance emploi et perfectionnement professionnel
A28: 4001 | B28: =Liste!B4 -> Cotisation locale
A29: 4002 | B29: =Liste!B5 -> Intérêts
A35: 4400 | B35: Autre produit
A36: 4490 | B36: Revenus divers
A41: 4599 | B41: Total - Autre produit
A42: CHARGE
A43: 5000
A44: 5010 | B44: =Liste!C4 -> Conférences perfectionnement professionnel
A45: 5020 | B45: =Liste!C5 -> Subventions perfectionnement professionnel
A46: 5030 | B46: =Liste!C9 -> Honoraires professionnels
A47: 5041 | B47: =Liste!C6 -> Frais bancaire
A48: 5042 | B48: =Liste!C18 -> Journées de perfectionnement professionnel
A49: 5043 | B49: =Liste!C20 -> Pauses-santé
...

Sheet Budget_perfectionnement
B1: Cercle
B2: BUDGET | C2: 2027-2028 (1er juillet 2027 au 30 juin 2028)
B4: SOMMAIRE
B5: Total des revenus | C5: =Income55[[#Totals],[Prévision budget 2027-2028]] -> 0
B6: Total des dépenses | C6: =Expenses44[[#Totals],[Prévision budget 2027-2028]] -> 0
B8: Surplus (déficit) | C8: =C5-C6 -> 0
B10: Pourcentage du revenu dépensé | C10: =C6/C5 -> #DIV/0!
B12: REVENUS
B13: COMPTES DE REVENUS | C13: Description | D13: Budget réel au 30 juin 2025 | E13: Budget 2026-2027 | F13: Réel à ce jour | G13: Prévision budget 2027-2028 | H13: Écart entre 2027-2028 et 2026-2027 (en $)
F14: 0 | H14: =Income55[[#This Row],[Prévision budget 2027-2028]]-Income55[[#This Row],[Budget 2026-2027]] -> 0
H15: =Income55[[#This Row],[Prévision budget 2027-2028]]-Income55[[#This Row],[Budget 2026-2027]] -> 0
F16: 0 | H16: =Income55[[#This Row],[Prévision budget 2027-2028]]-Income55[[#This Row],[Budget 2026-2027]] -> 0
F17: 0 | H17: =Income55[[#This Row],[Prévision budget 2027-2028]]-Income55[[#This Row],[Budget 2026-2027]] -> 0
F18: 0 | H18: =Income55[[#This Row],[Prévision budget 2027-2028]]-Income55[[#This Row],[Budget 2026-2027]] -> 0
F19: 0 | H19: =Income55[[#This Row],[Prévision budget 2027-2028]]-Income55[[#This Row],[Budget 2026-2027]] -> 0
B20: Total | D20: =SUBTOTAL(109,Income55[Budget réel au 30 juin 2025]) -> 0 | E20: =SUBTOTAL(109,Income55[Budget 2026-2027]) -> 0 | F20: =SUBTOTAL(109,Income55[Réel à ce jour]) -> 0 | G20: =SUBTOTAL(109,Income55[Prévision budget 2027-2028]) -> 0 | H20: =SUBTOTAL(109,Income55[Écart entre 2027-2028 et 2026-2027 (en $)]) -> 0
B22: DÉPENSES
B23: COMPTES DE DÉPENSES | C23: Description | D23: Budget réel au 30 juin 2025 | E23: Budget 2026-2027 | F23: Réel à ce jour | G23: Prévision budget 2027-2028 | H23: Écart entre 2027-2028 et 2026-2027 (en $)
F24: 0 | H24: =Expenses44[[#This Row],[Prévision budget 2027-2028]]-Expenses44[[#This Row],[Budget 2026-2027]] -> 0
F25: 0 | H25: =Expenses44[[#This Row],[Prévision budget 2027-2028]]-Expenses44[[#This Row],[Budget 2026-2027]] -> 0
F26: 0 | H26: =Expenses44[[#This Row],[Prévision budget 2027-2028]]-Expenses44[[#This Row],[Budget 2026-2027]] -> 0
F27: 0 | H27: =Expenses44[[#This Row],[Prévision budget 2027-2028]]-Expenses44[[#This Row],[Budget 2026-2027]] -> 0
F28: =GrandLivreGeneral_perf.!F172 -> 0 | H28: =Expenses44[[#This Row],[Prévision budget 2027-2028]]-Expenses44[[#This Row],[Budget 2026-2027]] -> 0
F29: 0 | H29: =Expenses44[[#This Row],[Prévision budget 2027-2028]]-Expenses44[[#This Row],[Budget 2026-2027]] -> 0
F30: 0 | H30: =Expenses44[[#This Row],[Prévision budget 2027-2028]]-Expenses44[[#This Row],[Budget 2026-2027]] -> 0
D31: 0 | H31: =Expenses44[[#This Row],[Prévision budget 2027-2028]]-Expenses44[[#This Row],[Budget 2026-2027]] -> 0
D32: 0 | H32: =Expenses44[[#This Row],[Prévision budget 2027-2028]]-Expenses44[[#This Row],[Budget 2026-2027]] -> 0
D33: 0 | H33: =Expenses44[[#This Row],[Prévision budget 2027-2028]]-Expenses44[[#This Row],[Budget 2026-2027]] -> 0
D34: 0 | H34: =Expenses44[[#This Row],[Prévision budget 2027-2028]]-Expenses44[[#This Row],[Budget 2026-2027]] -> 0
D35: 0 | H35: =Expenses44[[#This Row],[Prévision budget 2027-2028]]-Expenses44[[#This Row],[Budget 2026-2027]] -> 0
D36: 0 | H36: =Expenses44[[#This Row],[Prévision budget 2027-2028]]-Expenses44[[#This Row],[Budget 2026-2027]] -> 0
D37: 0 | H37: =Expenses44[[#This Row],[Prévision budget 2027-2028]]-Expenses44[[#This Row],[Budget 2026-2027]] -> 0
D38: 0 | H38: =Expenses44[[#This Row],[Prévision budget 2027-2028]]-Expenses44[[#This Row],[Budget 2026-2027]] -> 0
D39: 0 | H39: =Expenses44[[#This Row],[Prévision budget 2027-2028]]-Expenses44[[#This Row],[Budget 2026-2027]] -> 0
D40: 0 | H40: =Expenses44[[#This Row],[Prévision budget 2027-2028]]-Expenses44[[#This Row],[Budget 2026-2027]] -> 0
B41: Total | D41: =SUBTOTAL(109,Expenses44[Budget réel au 30 juin 2025]) -> 0 | E41: =SUBTOTAL(109,Expenses44[Budget 2026-2027]) -> 0 | F41: =SUBTOTAL(109,Expenses44[Réel à ce jour]) -> 0 | G41: =SUBTOTAL(109,Expenses44[Prévision budget 2027-2028]) -> 0 | H41: =SUBTOTAL(101,Expenses44[Écart entre 2027-2028 et 2026-2027 (en $)]) -> 0

Sheet GrandLivreGeneral_perf.
A1: Grand livre général — fonctionnement
A2: Nom : | B2: Banque compte courant | E2: Compte no | F2: =IFERROR(INDEX(Plancomptable!A:A,MATCH(B2,Plancomptable!B:B,0)),"") -> 1002
A3: Date | B3: Libellé | C3: Réf. | D3: Débit | E3: Crédit | F3: Solde | G3: D/C
A4: 30 juin 2026 | B4: solde | G4: D
E5: 0 | G5: D
F6: =F5+D6-E6 -> 0 | G6: D
C7: JG | F7: =F6+D7-E7 -> 0
C8: JG | F8: =F7+D8-E8 -> 0
C9: JG | F9: =F8+D9-E9 -> 0
C10: JG | F10: =F9+D10-E10 -> 0
C11: JG | F11: =F10+D11-E11 -> 0
C12: JE | F12: =F11+D12-E12 -> 0
C13: JD | F13: =F12+D13-E13 -> 0
C14: JG | F14: =F13+D14-E14 -> 0
C15: JG | F15: =F14+D15-E15 -> 0
C16: =C15 -> JG | F16: =F15+D16-E16 -> 0
A18: Nom : | B18: Petite caisse | E18: Compte no | F18: =IFERROR(INDEX(Plancomptable!A:A,MATCH(B18,Plancomptable!B:B,0)),"") -> 1001
A19: Date | B19: Libellé | C19: Réf. | D19: Débit | E19: Crédit | F19: Solde | G19: D/C
F20: 0
F21: =F20+D21-E21 -> 0
F22: =F21+D22-E22 -> 0
F23: =F22+D23-E23 -> 0
A27: Nom : | B27: Banque compte épargne | E27: Compte no | F27: =IFERROR(INDEX(Plancomptable!A:A,MATCH(B27,Plancomptable!B:B,0)),"") -> 1003
A28: Date | B28: Libellé | C28: Réf. | D28: Débit | E28: Crédit | F28: Solde | G28: D/C
B29: solde | F29: 0
F30: =F29+D30 -> 0
A35: Nom : | B35: Banque placement à court terme | E35: Compte no | F35: =IFERROR(INDEX(Plancomptable!A:A,MATCH(B35,Plancomptable!B:B,0)),"") -> 1004
A36: Date | B36: Libellé | C36: Réf. | D36: Débit | E36: Crédit | F36: Solde | G36: D/C
B37: solde | F37: 0
A43: Nom : | B43: Dépôt à termes | E43: Compte no | F43: =IFERROR(INDEX(Plancomptable!A:A,MATCH(B43,Plancomptable!B:B,0)),"") -> 1100
A44: Date | B44: Libellé | C44: Réf. | D44: Débit | E44: Crédit | F44: Solde | G44: D/C
B45: solde | F45: 0
F46: =F45+D46 -> 0
F47: =F46+D47-E47 -> 0
A51: Nom : | B51: Montant à recevoir | E51: Compte no | F51: =IFERROR(INDEX(Plancomptable!A:A,MATCH(B51,Plancomptable!B:B,0)),"") -> 1200
A52: Date | B52: Libellé | C52: Réf. | D52: Débit | E52: Crédit | F52: Solde | G52: D/C
F53: 0
F54: =F53+D54 -> 0
F55: =F54+D55 -> 0
A59: Nom : | B59: Dépenses payées d'avance | E59: Compte no | F59: =IFERROR(INDEX(Plancomptable!A:A,MATCH(B59,Plancomptable!B:B,0)),"") -> 1300
...

Sheet Etat_perfectionnement
B1: Cercle
B2: État des revenus et des dépenses — fonctionnement
B3: Du xx au xx
B4: Poste | C4: Budget 2026-2027 | D4: Réel à ce jour | E4: Écart | F4: Prévision 2027-2028
B5: REVENUS | C5: Budget 2026-2027 | D5: Réel à ce jour | E5: Écart | F5: Prévision 2027-2028
B6: =Budget_perfectionnement!B14 -> 0 | C6: =Budget_perfectionnement!E14 -> 0 | D6: =Budget_perfectionnement!F14 -> 0 | E6: =D6-C6 -> 0 | F6: =Budget_perfectionnement!G14 -> 0
B7: =Budget_perfectionnement!B15 -> 0 | C7: =Budget_perfectionnement!E15 -> 0 | D7: =Budget_perfectionnement!F15 -> 0 | E7: =D7-C7 -> 0 | F7: =Budget_perfectionnement!G15 -> 0
B8: =Budget_perfectionnement!B16 -> 0 | C8: =Budget_perfectionnement!E16 -> 0 | D8: =Budget_perfectionnement!F16 -> 0 | E8: =D8-C8 -> 0 | F8: =Budget_perfectionnement!G16 -> 0
B9: =Budget_perfectionnement!B17 -> 0 | C9: =Budget_perfectionnement!E17 -> 0 | D9: =Budget_perfectionnement!F17 -> 0 | E9: =D9-C9 -> 0 | F9: =Budget_perfectionnement!G17 -> 0
C10: =Budget_perfectionnement!E18 -> 0 | E10: =D10-C10 -> 0 | F10: =Budget_perfectionnement!G18 -> 0
B11: =Budget_perfectionnement!B18 -> 0 | C11: =Budget_perfectionnement!E18 -> 0 | D11: =Budget_perfectionnement!F18 -> 0 | E11: =D11-C11 -> 0 | F11: =Budget_perfectionnement!G19 -> 0
C12: =Budget_perfectionnement!E19 -> 0 | E12: =D12-C12 -> 0
B13: =Budget_perfectionnement!B19 -> 0 | C13: =SUM(C6:C12) -> 0 | D13: =SUM(D6:D12) -> 0 | E13: =D13-C13 -> 0 | F13: =Budget_perfectionnement!G19 -> 0
B15: DÉPENSES | C15: Budget 2026-2027 | D15: Réel à ce jour | E15: Écart | F15: Prévision 2027-2028
B16: =Budget_perfectionnement!B24 -> 0 | C16: =Budget_perfectionnement!E24 -> 0 | D16: =Budget_perfectionnement!F24 -> 0 | E16: =D16-C16 -> 0 | F16: =Budget_perfectionnement!G24 -> 0
B17: =Budget_perfectionnement!B25 -> 0 | C17: =Budget_perfectionnement!E25 -> 0 | D17: =Budget_perfectionnement!F25 -> 0 | E17: =D17-C17 -> 0 | F17: =Budget_perfectionnement!G25 -> 0
B18: =Budget_perfectionnement!B26 -> 0 | C18: =Budget_perfectionnement!E26 -> 0 | D18: =Budget_perfectionnement!F26 -> 0 | E18: =D18-C18 -> 0 | F18: =Budget_perfectionnement!G26 -> 0
B19: =Budget_perfectionnement!B27 -> 0 | C19: =Budget_perfectionnement!E27 -> 0 | D19: =Budget_perfectionnement!F27 -> 0 | E19: =D19-C19 -> 0 | F19: =Budget_perfectionnement!G27 -> 0
B20: =Budget_perfectionnement!B28 -> 0 | C20: =Budget_perfectionnement!E28 -> 0 | D20: =Budget_perfectionnement!F28 -> 0 | E20: =D20-C20 -> 0 | F20: =Budget_perfectionnement!G28 -> 0
B21: =Budget_perfectionnement!B29 -> 0 | C21: =Budget_perfectionnement!E29 -> 0 | D21: =Budget_perfectionnement!F29 -> 0 | E21: =D21-C21 -> 0 | F21: =Budget_perfectionnement!G29 -> 0
B22: =Budget_perfectionnement!B30 -> 0 | C22: =Budget_perfectionnement!E30 -> 0 | D22: =Budget_perfectionnement!F30 -> 0 | E22: =D22-C22 -> 0 | F22: =Budget_perfectionnement!G30 -> 0
B23: =Budget_perfectionnement!B31 -> 0 | C23: =Budget_perfectionnement!E31 -> 0 | D23: =Budget_perfectionnement!F31 -> 0 | E23: =D23-C23 -> 0 | F23: =Budget_perfectionnement!G31 -> 0
B24: =Budget_perfectionnement!B32 -> 0 | C24: =Budget_perfectionnement!E32 -> 0 | D24: =Budget_perfectionnement!F32 -> 0 | E24: =D24-C24 -> 0 | F24: =Budget_perfectionnement!G32 -> 0
B25: =Budget_perfectionnement!B33 -> 0 | C25: =Budget_perfectionnement!E33 -> 0 | D25: =Budget_perfectionnement!F33 -> 0 | E25: =D25-C25 -> 0 | F25: =Budget_perfectionnement!G33 -> 0
B26: =Budget_perfectionnement!B34 -> 0 | C26: =Budget_perfectionnement!E34 -> 0 | D26: =Budget_perfectionnement!F34 -> 0 | E26: =D26-C26 -> 0 | F26: =Budget_perfectionnement!G34 -> 0
B27: =Budget_perfectionnement!B35 -> 0 | C27: =Budget_perfectionnement!E35 -> 0 | D27: =Budget_perfectionnement!F35 -> 0 | E27: =D27-C27 -> 0 | F27: =Budget_perfectionnement!G35 -> 0
... B30: =Budget_perfectionnement!B38 -> 0 | C30: =Budget_perfectionnement!E38 -> 0 | D30: =Budget_perfectionnement!F38 -> 0 | E30: =D30-C30 -> 0 | F30: =Budget_perfectionnement!G38 -> 0
C31: =Budget_perfectionnement!E39 -> 0
C32: =Budget_perfectionnement!E40 -> 0
B33: =Budget_perfectionnement!B39 -> 0 | C33: =SUM(C16:C32) -> 0 | D33: =SUM(D16:D32) -> 0 | E33: =D33-C33 -> 0 | F33: =Budget_perfectionnement!G39 -> 0
B36: REVENU NET | C36: =C13-C33 -> 0 | D36: =D13-D33 -> 0 | E36: =D36-C36 -> 0 | F36: =F13-F33 -> 0
B38: Lié automatiquement à Budget_perfectionnement
B39: Les libellés et montants ci-dessous se mettent à jour selon les tableaux REVENUS et DÉPENSES du budget.

Sheet Bilan_perf
B1: Cercle
B2: BILAN FINANCIER — PERFECTIONNEMENT
B3: Exercice 2026-2027 | D3: Date du bilan | E3: 2 septembre 2026
B4: Soldes liés au plan comptable et au grand livre général; le bénéfice courant provient de l’état des revenus et dépenses.
B5: N° | C5: Poste | D5: Solde | E5: Source | F5: Statut
C6: ACTIF
B7: 1001 | C7: =IFERROR(_xlfn.XLOOKUP($B7,Plancomptable!$A$1:$A$190,Plancomptable!$B$1:$B$190),"Compte non trouvé") -> Petite caisse | D7: {=IFERROR(_xlfn.LET(_xlpm.a,$B7,_xlpm.r,_xlfn.XMATCH(_xlpm.a,GrandLivreGeneral_perf.!$F$1:$F$504,0),_xlpm.n,IFERROR(_xlpm.r+_xlfn.XMATCH("Nom :",INDEX(GrandLivreGeneral_perf.!$A$1:$A$504,_xlpm.r+1):'GrandLivreGeneral_perf.'!$A$504,0),497),_xlpm.z,INDEX(GrandLivreGeneral_perf.!$F$1:$F$504,_xlpm.r+1):INDEX(GrandLivreGeneral_perf.!$F$1:$F$504,_xlpm.n-1),LOOKUP(2,1/(_xlpm.z<>""),_xlpm.z)),0)} -> 0 | E7: Grand livre | F7: =IF(COUNTIF(GrandLivreGeneral_fonctionnemen!$F$1:$F$504,$B7)=0,"À configurer","Lié") -> Lié
B8: 1002 | C8: =IFERROR(_xlfn.XLOOKUP($B8,Plancomptable!$A$1:$A$190,Plancomptable!$B$1:$B$190),"Compte non trouvé") -> Banque compte courant | D8: {=IFERROR(_xlfn.LET(_xlpm.a,$B8,_xlpm.r,_xlfn.XMATCH(_xlpm.a,GrandLivreGeneral_perf.!$F$1:$F$504,0),_xlpm.n,IFERROR(_xlpm.r+_xlfn.XMATCH("Nom :",INDEX(GrandLivreGeneral_perf.!$A$1:$A$504,_xlpm.r+1):'GrandLivreGeneral_perf.'!$A$504,0),497),_xlpm.z,INDEX(GrandLivreGeneral_perf.!$F$1:$F$504,_xlpm.r+1):INDEX(GrandLivreGeneral_perf.!$F$1:$F$504,_xlpm.n-1),LOOKUP(2,1/(_xlpm.z<>""),_xlpm.z)),0)} -> 0 | E8: Grand livre | F8: =IF(COUNTIF(GrandLivreGeneral_fonctionnemen!$F$1:$F$504,$B8)=0,"À configurer","Lié") -> Lié
B9: 1003 | C9: =IFERROR(_xlfn.XLOOKUP($B9,Plancomptable!$A$1:$A$190,Plancomptable!$B$1:$B$190),"Compte non trouvé") -> Banque compte épargne | D9: {=IFERROR(_xlfn.LET(_xlpm.a,$B9,_xlpm.r,_xlfn.XMATCH(_xlpm.a,GrandLivreGeneral_perf.!$F$1:$F$504,0),_xlpm.n,IFERROR(_xlpm.r+_xlfn.XMATCH("Nom :",INDEX(GrandLivreGeneral_perf.!$A$1:$A$504,_xlpm.r+1):'GrandLivreGeneral_perf.'!$A$504,0),497),_xlpm.z,INDEX(GrandLivreGeneral_perf.!$F$1:$F$504,_xlpm.r+1):INDEX(GrandLivreGeneral_perf.!$F$1:$F$504,_xlpm.n-1),LOOKUP(2,1/(_xlpm.z<>""),_xlpm.z)),0)} -> 0 | E9: Grand livre | F9: =IF(COUNTIF(GrandLivreGeneral_fonctionnemen!$F$1:$F$504,$B9)=0,"À configurer","Lié") -> Lié
B10: 1004 | C10: =IFERROR(_xlfn.XLOOKUP($B10,Plancomptable!$A$1:$A$190,Plancomptable!$B$1:$B$190),"Compte non trouvé") -> Banque placement à court terme | D10: {=IFERROR(_xlfn.LET(_xlpm.a,$B10,_xlpm.r,_xlfn.XMATCH(_xlpm.a,GrandLivreGeneral_perf.!$F$1:$F$504,0),_xlpm.n,IFERROR(_xlpm.r+_xlfn.XMATCH("Nom :",INDEX(GrandLivreGeneral_perf.!$A$1:$A$504,_xlpm.r+1):'GrandLivreGeneral_perf.'!$A$504,0),497),_xlpm.z,INDEX(GrandLivreGeneral_perf.!$F$1:$F$504,_xlpm.r+1):INDEX(GrandLivreGeneral_perf.!$F$1:$F$504,_xlpm.n-1),LOOKUP(2,1/(_xlpm.z<>""),_xlpm.z)),0)} -> 0 | E10: Grand livre | F10: =IF(COUNTIF(GrandLivreGeneral_fonctionnemen!$F$1:$F$504,$B10)=0,"À configurer","Lié") -> Lié
B11: 1100 | C11: =IFERROR(_xlfn.XLOOKUP($B11,Plancomptable!$A$1:$A$190,Plancomptable!$B$1:$B$190),"Compte non trouvé") -> Dépôt à termes | D11: {=IFERROR(_xlfn.LET(_xlpm.a,$B11,_xlpm.r,_xlfn.XMATCH(_xlpm.a,GrandLivreGeneral_perf.!$F$1:$F$504,0),_xlpm.n,IFERROR(_xlpm.r+_xlfn.XMATCH("Nom :",INDEX(GrandLivreGeneral_perf.!$A$1:$A$504,_xlpm.r+1):'GrandLivreGeneral_perf.'!$A$504,0),497),_xlpm.z,INDEX(GrandLivreGeneral_perf.!$F$1:$F$504,_xlpm.r+1):INDEX(GrandLivreGeneral_perf.!$F$1:$F$504,_xlpm.n-1),LOOKUP(2,1/(_xlpm.z<>""),_xlpm.z)),0)} -> 0 | E11: Grand livre | F11: =IF(COUNTIF(GrandLivreGeneral_fonctionnemen!$F$1:$F$504,$B11)=0,"À configurer","Lié") -> Lié
B12: 1200 | C12: =IFERROR(_xlfn.XLOOKUP($B12,Plancomptable!$A$1:$A$190,Plancomptable!$B$1:$B$190),"Compte non trouvé") -> Montant à recevoir | D12: {=IFERROR(_xlfn.LET(_xlpm.a,$B12,_xlpm.r,_xlfn.XMATCH(_xlpm.a,GrandLivreGeneral_perf.!$F$1:$F$504,0),_xlpm.n,IFERROR(_xlpm.r+_xlfn.XMATCH("Nom :",INDEX(GrandLivreGeneral_perf.!$A$1:$A$504,_xlpm.r+1):'GrandLivreGeneral_perf.'!$A$504,0),497),_xlpm.z,INDEX(GrandLivreGeneral_perf.!$F$1:$F$504,_xlpm.r+1):INDEX(GrandLivreGeneral_perf.!$F$1:$F$504,_xlpm.n-1),LOOKUP(2,1/(_xlpm.z<>""),_xlpm.z)),0)} -> 0 | E12: Grand livre | F12: =IF(COUNTIF(GrandLivreGeneral_fonctionnemen!$F$1:$F$504,$B12)=0,"À configurer","Lié") -> Lié
B13: 1300 | C13: =IFERROR(_xlfn.XLOOKUP($B13,Plancomptable!$A$1:$A$190,Plancomptable!$B$1:$B$190),"Compte non trouvé") -> Dépenses payées d'avance | D13: {=IFERROR(_xlfn.LET(_xlpm.a,$B13,_xlpm.r,_xlfn.XMATCH(_xlpm.a,GrandLivreGeneral_perf.!$F$1:$F$504,0),_xlpm.n,IFERROR(_xlpm.r+_xlfn.XMATCH("Nom :",INDEX(GrandLivreGeneral_perf.!$A$1:$A$504,_xlpm.r+1):'GrandLivreGeneral_perf.'!$A$504,0),497),_xlpm.z,INDEX(GrandLivreGeneral_perf.!$F$1:$F$504,_xlpm.r+1):INDEX(GrandLivreGeneral_perf.!$F$1:$F$504,_xlpm.n-1),LOOKUP(2,1/(_xlpm.z<>""),_xlpm.z)),0)} -> 0 | E13: Grand livre | F13: =IF(COUNTIF(GrandLivreGeneral_fonctionnemen!$F$1:$F$504,$B13)=0,"À configurer","Lié") -> Lié
C14: TOTAL DE L’ACTIF | D14: =SUM(D7:D13) -> 0
C16: PASSIF
B17: 2100 | C17: =IFERROR(_xlfn.XLOOKUP($B17,Plancomptable!$A$1:$A$190,Plancomptable!$B$1:$B$190),"Compte non trouvé") -> Comptes fournisseurs | D17: {=IFERROR(_xlfn.LET(_xlpm.a,$B17,_xlpm.r,_xlfn.XMATCH(_xlpm.a,GrandLivreGeneral_perf.!$F$1:$F$504,0),_xlpm.n,IFERROR(_xlpm.r+_xlfn.XMATCH("Nom :",INDEX(GrandLivreGeneral_perf.!$A$1:$A$504,_xlpm.r+1):'GrandLivreGeneral_perf.'!$A$504,0),497),_xlpm.z,INDEX(GrandLivreGeneral_perf.!$F$1:$F$504,_xlpm.r+1):INDEX(GrandLivreGeneral_perf.!$F$1:$F$504,_xlpm.n-1),LOOKUP(2,1/(_xlpm.z<>""),_xlpm.z)),0)} -> 0 | E17: Grand livre | F17: =IF(COUNTIF(GrandLivreGeneral_fonctionnemen!$F$1:$F$504,$B17)=0,"À configurer","Lié") -> Lié
B18: 2101 | C18: =IFERROR(_xlfn.XLOOKUP($B18,Plancomptable!$A$1:$A$190,Plancomptable!$B$1:$B$190),"Compte non trouvé") -> Revenus différés | D18: {=IFERROR(_xlfn.LET(_xlpm.a,$B18,_xlpm.r,_xlfn.XMATCH(_xlpm.a,GrandLivreGeneral_perf.!$F$1:$F$504,0),_xlpm.n,IFERROR(_xlpm.r+_xlfn.XMATCH("Nom :",INDEX(GrandLivreGeneral_perf.!$A$1:$A$504,_xlpm.r+1):'GrandLivreGeneral_perf.'!$A$504,0),497),_xlpm.z,INDEX(GrandLivreGeneral_perf.!$F$1:$F$504,_xlpm.r+1):INDEX(GrandLivreGeneral_perf.!$F$1:$F$504,_xlpm.n-1),LOOKUP(2,1/(_xlpm.z<>""),_xlpm.z)),0)} -> 0 | E18: Grand livre | F18: =IF(COUNTIF(GrandLivreGeneral_fonctionnemen!$F$1:$F$504,$B18)=0,"À configurer","Lié") -> Lié
C19: TOTAL DU PASSIF | D19: =SUM(D17:D18) -> 0
C21: AVOIR DES PROPRIÉTAIRES
B22: 3500 | C22: =IFERROR(_xlfn.XLOOKUP($B22,Plancomptable!$A$1:$A$190,Plancomptable!$B$1:$B$190),"Compte non trouvé") -> Bénéfices non répartis | D22: {=IFERROR(_xlfn.LET(_xlpm.a,$B22,_xlpm.r,_xlfn.XMATCH(_xlpm.a,GrandLivreGeneral_perf.!$F$1:$F$504,0),_xlpm.n,IFERROR(_xlpm.r+_xlfn.XMATCH("Nom :",INDEX(GrandLivreGeneral_perf.!$A$1:$A$504,_xlpm.r+1):'GrandLivreGeneral_perf.'!$A$504,0),497),_xlpm.z,INDEX(GrandLivreGeneral_perf.!$F$1:$F$504,_xlpm.r+1):INDEX(GrandLivreGeneral_perf.!$F$1:$F$504,_xlpm.n-1),LOOKUP(2,1/(_xlpm.z<>""),_xlpm.z)),0)} -> 0 | E22: Grand livre | F22: =IF(COUNTIF(GrandLivreGeneral_fonctionnemen!$F$1:$F$504,$B22)=0,"À configurer","Lié") -> Lié
B23: 3510 | C23: =IFERROR(_xlfn.XLOOKUP($B23,Plancomptable!$A$1:$A$190,Plancomptable!$B$1:$B$190),"Compte non trouvé") -> Bénféfices non répartis - ex. précédent | D23: {=IFERROR(_xlfn.LET(_xlpm.a,$B23,_xlpm.r,_xlfn.XMATCH(_xlpm.a,GrandLivreGeneral_perf.!$F$1:$F$504,0),_xlpm.n,IFERROR(_xlpm.r+_xlfn.XMATCH("Nom :",INDEX(GrandLivreGeneral_perf.!$A$1:$A$504,_xlpm.r+1):'GrandLivreGeneral_perf.'!$A$504,0),497),_xlpm.z,INDEX(GrandLivreGeneral_perf.!$F$1:$F$504,_xlpm.r+1):INDEX(GrandLivreGeneral_perf.!$F$1:$F$504,_xlpm.n-1),LOOKUP(2,1/(_xlpm.z<>""),_xlpm.z)),0)} -> Solde | E23: Grand livre | F23: =IF(COUNTIF(GrandLivreGeneral_fonctionnemen!$F$1:$F$504,$B23)=0,"À configurer","Lié") -> Lié
B24: 3600 | C24: =IFERROR(_xlfn.XLOOKUP($B24,Plancomptable!$A$1:$A$190,Plancomptable!$B$1:$B$190),"Compte non trouvé") -> Bénéfice courant | D24: =Etat_perfectionnement!D36 -> 0 | E24: État des revenus et dépenses | F24: Lié
C25: TOTAL DE L’AVOIR | D25: =SUM(D22:D24) -> 0
C27: TOTAL DU PASSIF ET DE L’AVOIR | D27: =D19+D25 -> 0
C29: CONTRÔLE DE L’ÉQUATION COMPTABLE
C30: Actif – Passif – Avoir | D30: =D14-D27 -> 0 | E30: Contrôle | F30: =IF(ABS(D30)<0.01,"Équilibré","À concilier") -> Équilibré
B32: =COUNTIF(F7:F13,"À configurer")+COUNTIF(F17:F18,"À configurer")+COUNTIF(F22:F23,"À configurer")&" compte(s) du bilan ne sont pas encore identifiés par un numéro dans le grand livre." -> 0 compte(s) du bilan ne sont pas encore identifiés par un numéro dans le grand livre.
B33: Pour alimenter un solde, inscrire le numéro du compte dans la cellule « Compte no » du bloc correspondant du grand livre.

Sheet Conciliation_bancaire_perf
A2: Conciliation bancaire — perfectionnement
A3: Mois
A5: SOMMAIRE | D5: AJUSTEMENTS
A6: Solde selon la banque | D6: Dépôts en transit
A7: Solde selon le grand livre | D7: Chèques en circulation
A8: Additions | D8: Autres ajustements
A9: Soustractions | D9: Références / notes
A10: Solde ajusté
A12: Solde banque + additions - soustractions = solde ajusté
A14: Détails des éléments en transit
A15: Date | B15: Description | C15: Montant | D15: Note | E15: Date | F15: Description | G15: Montant | H15: Note

Sheet Liste
A1: Autres comptes | B1: Revenus | C1: Dépenses
A2: Banque | B2: Ristourne de fonctionnement | C2: Activités sociales et banquet | D2: Cercle | E2: Explications/Description | F2: Année financière | G2: Mois
A3: Compte épargne à court terme | B3: Ristourne d'assurance emploi et perfectionnement professionnel | C3: Bourse d'études | D3: Cercle Restigouche-Ouest | E3: Revenu provenant de l'AEFNB pour l’administration des cercles Payer en trois versements : 50 % du revenu sera versé d'ici la mi-décembre, 25 % du revenu sera versé à la mi-mars et le versement final de 25 % sera effectué lors de la réception du rapport annuel du cercle. | F3: 2025-2026 (1er juillet 2025 au 30 juin 2026) | G3: Janvier
A4: Compte épargne à long terme | B4: Cotisation locale | C4: Conférences perfectionnement professionnel | D4: Cercle Grand Caraquet | E4: Revenu provenant du MÉDPE versé à l'AEFNB pour l’assurance-emploi pour le perfectionnement professionnel des membres. La formule varie selon si c'est une année avec un congrès ou non. | F4: 2026-2027 (1er juillet 2026 au 30 juin 2027) | G4: Février
A5: Dépôt à terme | B5: Intérêts | C5: Subventions perfectionnement professionnel | D5: Cercle Nordet | E5: Revenu pour la cotisation locale des membres du Cercle | F5: 2027-2028 (1er juillet 2027 au 30 juin 2028) | G5: Mars
B6: Divers | C6: Frais bancaire | D6: Cercle Littoral acadien | E6: Revenu d'intérêts sur les investissements | G6: Avril
B7: Subvention | C7: Dépenses générales de bureau | D7: Cercle Kent-Sud | E7: Revenu non prévu | G7: Mai
C8: Frais de déplacement (CA) | D8: Cercle Petitcodiac | E8: Revenu provenant de subventions | G8: Juin
C9: Honoraires professionnels | D9: Cercle Dieppe-Centre | E9: Frais liés aux activités sociales et au banquet (repas, pause, déplacement, fleurs, etc) | G9: Juillet
C10: Relations publiques | D10: Cercle Resurgo | E10: Frais liés à l'octroi de bourses d'études | G10: Août
C11: Reconnaissances des personnes retraitées | D11: Cercle Franco-Moncton | E11: Frais liés aux conférences (Argent PP) | G11: Septembre
C12: Poste | D12: Cercle Grand-Shediac | E12: Frais liés aux pauses (Argent PP) | G12: Octobre
C13: Frais de suppléance | D13: Association provinciale Franco + | E13: Frais liés aux pauses lors de réunion du cercle | G13: Novembre
C14: Divers | D14: Cercle Vallée des chutes | E14: Frais liés à l'octroi de subventions perfectionnement professionnel (PP) | G14: Décembre
C15: Frais de réunion | D15: Cercle éducatif Nord-Ouest | E15: Frais d'intérêt sur nos comptes bancaires
C16: Bureau de direction | D16: Cercle Madawaska-des-Lacs | E16: Achat de fournitures de bureau pour le fonctionnement du cercle
C17: AGA | D17: Cercle Restigouche | E17: Frais de déplacement (km, repas, hébergement) liés au fonctionnement
C18: Journées de perfectionnement professionnel | D18: Cercle Côte Est | E18: Frais de déplacement (km, repas, hébergement) liés au perfectionnement professionnel)
C19: Formation membres du BD | D19: Cercle Acadie-Chaleur | E19: Frais d'honoraires professionnels (BD)
C20: Pauses-santé | D20: Cercle Franco-capitale | E20: Frais pour les relations pbuliques lié au bon fonctionnement du cercle (papeterie avec logo)
D21: Cercle Acadie Sud-Ouest | E21: Frais liés à la céblébration et reconnaissance des personnes retraitées (déplacement, repas, fleurs, etc.)
E22: Frais liés à la poste
E23: Frais liés à la suppléance (Argent du PP)
E24: Frais non prévus
E25: Frais liés aux dépenses de l'AGA du cercle
E26: Frais liés à l'organisation des journées de perfectionnement professionnel
E27: Frais liés à la formation pour les membres du BD
